BEGIN:VCALENDAR
VERSION:2.0
PRODID:icalendar-ruby
CALSCALE:GREGORIAN
METHOD:PUBLISH
BEGIN:VEVENT
DTSTAMP:20260422T080418Z
UID:175-616324@barnabasanglican.com
DTSTART:20260915T130000Z
DTEND:20260915T140000Z
CLASS:PUBLIC
CREATED:20260421T205822
DESCRIPTION:Join the women of St. Barnabas for fellowship and scripture stu
 dy.
LAST-MODIFIED:20260421T205822
LOCATION:
SUMMARY:Women's Bible Study
URL;VALUE=URI:https://www.barnabasanglican.com/events/womens-bible-study/20
 26-09-15
ATTACH;FILENAME=BibleStudy.png;FMTTYPE=image/png:https://dq5pwpg1q8ru0.clou
 dfront.net/2026/02/09/15/09/20/9fd85e34-b91b-49db-8b42-0f61d21fc04f/BibleS
 tudy.png
END:VEVENT
END:VCALENDAR
