BEGIN:VCALENDAR
VERSION:2.0
PRODID:icalendar-ruby
CALSCALE:GREGORIAN
METHOD:PUBLISH
BEGIN:VEVENT
DTSTAMP:20260422T182034Z
UID:175-617525@barnabasanglican.com
DTSTART:20261103T140000Z
DTEND:20261103T150000Z
CLASS:PUBLIC
CREATED:20260422T135306
DESCRIPTION:Join the women of St. Barnabas for fellowship and scripture stu
 dy.
LAST-MODIFIED:20260422T135306
LOCATION:
SUMMARY:Women's Bible Study
URL;VALUE=URI:https://www.barnabasanglican.com/events/womens-bible-study/20
 26-11-03
ATTACH;FILENAME=BibleStudy.png;FMTTYPE=image/png:https://dq5pwpg1q8ru0.clou
 dfront.net/2026/02/09/15/09/20/9fd85e34-b91b-49db-8b42-0f61d21fc04f/BibleS
 tudy.png
END:VEVENT
END:VCALENDAR
